BEGIN:VCALENDAR
VERSION:2.0
PRODID:-//Musikschule - ECPv6.15.14//NONSGML v1.0//EN
CALSCALE:GREGORIAN
METHOD:PUBLISH
X-ORIGINAL-URL:https://radolfzell-musikschule.de
X-WR-CALDESC:Veranstaltungen für Musikschule
REFRESH-INTERVAL;VALUE=DURATION:PT1H
X-Robots-Tag:noindex
X-PUBLISHED-TTL:PT1H
BEGIN:VTIMEZONE
TZID:Europe/Berlin
BEGIN:DAYLIGHT
TZOFFSETFROM:+0100
TZOFFSETTO:+0200
TZNAME:CEST
DTSTART:20250330T010000
END:DAYLIGHT
BEGIN:STANDARD
TZOFFSETFROM:+0200
TZOFFSETTO:+0100
TZNAME:CET
DTSTART:20251026T010000
END:STANDARD
BEGIN:DAYLIGHT
TZOFFSETFROM:+0100
TZOFFSETTO:+0200
TZNAME:CEST
DTSTART:20260329T010000
END:DAYLIGHT
BEGIN:STANDARD
TZOFFSETFROM:+0200
TZOFFSETTO:+0100
TZNAME:CET
DTSTART:20261025T010000
END:STANDARD
BEGIN:DAYLIGHT
TZOFFSETFROM:+0100
TZOFFSETTO:+0200
TZNAME:CEST
DTSTART:20270328T010000
END:DAYLIGHT
BEGIN:STANDARD
TZOFFSETFROM:+0200
TZOFFSETTO:+0100
TZNAME:CET
DTSTART:20271031T010000
END:STANDARD
END:VTIMEZONE
BEGIN:VEVENT
DTSTART;TZID=Europe/Berlin:20260301T110000
DTEND;TZID=Europe/Berlin:20260301T113000
DTSTAMP:20260424T124717
CREATED:20260301T035114Z
LAST-MODIFIED:20260301T035114Z
UID:37886-1772362800-1772364600@radolfzell-musikschule.de
SUMMARY:Preisträgerkonzert "Jugend musiziert"\, Radolfzeller Teilnehmende
DESCRIPTION:
URL:https://radolfzell-musikschule.de/veranstaltung/preistraegerkonzert-jugend-musiziert-radolfzeller-teilnehmende-71/
LOCATION:Städtische Musikschule Radolfzell\, Güttinger Straße 19\, Radolfzell am Bodensee\, 78315
ATTACH;FMTTYPE=image/png:https://radolfzell-musikschule.de/wp-content/uploads/sites/3/2026/03/event-a0e59ce1-be48-4b9b-806c-a64d44adf878.png
END:VEVENT
BEGIN:VEVENT
DTSTART;TZID=Europe/Berlin:20260301T110000
DTEND;TZID=Europe/Berlin:20260301T113000
DTSTAMP:20260424T124717
CREATED:20260228T154109Z
LAST-MODIFIED:20260228T154109Z
UID:37874-1772362800-1772364600@radolfzell-musikschule.de
SUMMARY:Preisträgerkonzert "Jugend musiziert"\, Radolfzeller Teilnehmende
DESCRIPTION:
URL:https://radolfzell-musikschule.de/veranstaltung/preistraegerkonzert-jugend-musiziert-radolfzeller-teilnehmende-70/
LOCATION:Städtische Musikschule Radolfzell\, Güttinger Straße 19\, Radolfzell am Bodensee\, 78315
ATTACH;FMTTYPE=image/png:https://radolfzell-musikschule.de/wp-content/uploads/sites/3/2026/02/event-a0e59ce1-be48-4b9b-806c-a64d44adf878-52.png
END:VEVENT
BEGIN:VEVENT
DTSTART;TZID=Europe/Berlin:20260301T110000
DTEND;TZID=Europe/Berlin:20260301T113000
DTSTAMP:20260424T124717
CREATED:20260228T033113Z
LAST-MODIFIED:20260228T033113Z
UID:37862-1772362800-1772364600@radolfzell-musikschule.de
SUMMARY:Preisträgerkonzert "Jugend musiziert"\, Radolfzeller Teilnehmende
DESCRIPTION:
URL:https://radolfzell-musikschule.de/veranstaltung/preistraegerkonzert-jugend-musiziert-radolfzeller-teilnehmende-69/
LOCATION:Städtische Musikschule Radolfzell\, Güttinger Straße 19\, Radolfzell am Bodensee\, 78315
ATTACH;FMTTYPE=image/png:https://radolfzell-musikschule.de/wp-content/uploads/sites/3/2026/02/event-a0e59ce1-be48-4b9b-806c-a64d44adf878-51.png
END:VEVENT
BEGIN:VEVENT
DTSTART;TZID=Europe/Berlin:20260301T110000
DTEND;TZID=Europe/Berlin:20260301T113000
DTSTAMP:20260424T124717
CREATED:20260227T152105Z
LAST-MODIFIED:20260227T152105Z
UID:37847-1772362800-1772364600@radolfzell-musikschule.de
SUMMARY:Preisträgerkonzert "Jugend musiziert"\, Radolfzeller Teilnehmende
DESCRIPTION:
URL:https://radolfzell-musikschule.de/veranstaltung/preistraegerkonzert-jugend-musiziert-radolfzeller-teilnehmende-68/
LOCATION:Städtische Musikschule Radolfzell\, Güttinger Straße 19\, Radolfzell am Bodensee\, 78315
ATTACH;FMTTYPE=image/png:https://radolfzell-musikschule.de/wp-content/uploads/sites/3/2026/02/event-a0e59ce1-be48-4b9b-806c-a64d44adf878-50.png
END:VEVENT
BEGIN:VEVENT
DTSTART;TZID=Europe/Berlin:20260301T110000
DTEND;TZID=Europe/Berlin:20260301T113000
DTSTAMP:20260424T124717
CREATED:20260227T031109Z
LAST-MODIFIED:20260227T031109Z
UID:37834-1772362800-1772364600@radolfzell-musikschule.de
SUMMARY:Preisträgerkonzert "Jugend musiziert"\, Radolfzeller Teilnehmende
DESCRIPTION:
URL:https://radolfzell-musikschule.de/veranstaltung/preistraegerkonzert-jugend-musiziert-radolfzeller-teilnehmende-67/
LOCATION:Städtische Musikschule Radolfzell\, Güttinger Straße 19\, Radolfzell am Bodensee\, 78315
ATTACH;FMTTYPE=image/png:https://radolfzell-musikschule.de/wp-content/uploads/sites/3/2026/02/event-a0e59ce1-be48-4b9b-806c-a64d44adf878-49.png
END:VEVENT
BEGIN:VEVENT
DTSTART;TZID=Europe/Berlin:20260301T110000
DTEND;TZID=Europe/Berlin:20260301T113000
DTSTAMP:20260424T124717
CREATED:20260226T150130Z
LAST-MODIFIED:20260226T150130Z
UID:37822-1772362800-1772364600@radolfzell-musikschule.de
SUMMARY:Preisträgerkonzert "Jugend musiziert"\, Radolfzeller Teilnehmende
DESCRIPTION:
URL:https://radolfzell-musikschule.de/veranstaltung/preistraegerkonzert-jugend-musiziert-radolfzeller-teilnehmende-66/
LOCATION:Städtische Musikschule Radolfzell\, Güttinger Straße 19\, Radolfzell am Bodensee\, 78315
ATTACH;FMTTYPE=image/png:https://radolfzell-musikschule.de/wp-content/uploads/sites/3/2026/02/event-a0e59ce1-be48-4b9b-806c-a64d44adf878-48.png
END:VEVENT
BEGIN:VEVENT
DTSTART;TZID=Europe/Berlin:20260301T110000
DTEND;TZID=Europe/Berlin:20260301T113000
DTSTAMP:20260424T124717
CREATED:20260226T025114Z
LAST-MODIFIED:20260226T025114Z
UID:37806-1772362800-1772364600@radolfzell-musikschule.de
SUMMARY:Preisträgerkonzert "Jugend musiziert"\, Radolfzeller Teilnehmende
DESCRIPTION:
URL:https://radolfzell-musikschule.de/veranstaltung/preistraegerkonzert-jugend-musiziert-radolfzeller-teilnehmende-65/
LOCATION:Städtische Musikschule Radolfzell\, Güttinger Straße 19\, Radolfzell am Bodensee\, 78315
ATTACH;FMTTYPE=image/png:https://radolfzell-musikschule.de/wp-content/uploads/sites/3/2026/02/event-a0e59ce1-be48-4b9b-806c-a64d44adf878-47.png
END:VEVENT
BEGIN:VEVENT
DTSTART;TZID=Europe/Berlin:20260301T110000
DTEND;TZID=Europe/Berlin:20260301T113000
DTSTAMP:20260424T124717
CREATED:20260225T144110Z
LAST-MODIFIED:20260225T144110Z
UID:37795-1772362800-1772364600@radolfzell-musikschule.de
SUMMARY:Preisträgerkonzert "Jugend musiziert"\, Radolfzeller Teilnehmende
DESCRIPTION:
URL:https://radolfzell-musikschule.de/veranstaltung/preistraegerkonzert-jugend-musiziert-radolfzeller-teilnehmende-64/
LOCATION:Städtische Musikschule Radolfzell\, Güttinger Straße 19\, Radolfzell am Bodensee\, 78315
ATTACH;FMTTYPE=image/png:https://radolfzell-musikschule.de/wp-content/uploads/sites/3/2026/02/event-a0e59ce1-be48-4b9b-806c-a64d44adf878-46.png
END:VEVENT
BEGIN:VEVENT
DTSTART;TZID=Europe/Berlin:20260301T110000
DTEND;TZID=Europe/Berlin:20260301T113000
DTSTAMP:20260424T124717
CREATED:20260225T023119Z
LAST-MODIFIED:20260225T023119Z
UID:37778-1772362800-1772364600@radolfzell-musikschule.de
SUMMARY:Preisträgerkonzert "Jugend musiziert"\, Radolfzeller Teilnehmende
DESCRIPTION:
URL:https://radolfzell-musikschule.de/veranstaltung/preistraegerkonzert-jugend-musiziert-radolfzeller-teilnehmende-63/
LOCATION:Städtische Musikschule Radolfzell\, Güttinger Straße 19\, Radolfzell am Bodensee\, 78315
ATTACH;FMTTYPE=image/png:https://radolfzell-musikschule.de/wp-content/uploads/sites/3/2026/02/event-a0e59ce1-be48-4b9b-806c-a64d44adf878-45.png
END:VEVENT
BEGIN:VEVENT
DTSTART;TZID=Europe/Berlin:20260301T110000
DTEND;TZID=Europe/Berlin:20260301T113000
DTSTAMP:20260424T124717
CREATED:20260224T142108Z
LAST-MODIFIED:20260224T142108Z
UID:37765-1772362800-1772364600@radolfzell-musikschule.de
SUMMARY:Preisträgerkonzert "Jugend musiziert"\, Radolfzeller Teilnehmende
DESCRIPTION:
URL:https://radolfzell-musikschule.de/veranstaltung/preistraegerkonzert-jugend-musiziert-radolfzeller-teilnehmende-62/
LOCATION:Städtische Musikschule Radolfzell\, Güttinger Straße 19\, Radolfzell am Bodensee\, 78315
ATTACH;FMTTYPE=image/png:https://radolfzell-musikschule.de/wp-content/uploads/sites/3/2026/02/event-a0e59ce1-be48-4b9b-806c-a64d44adf878-44.png
END:VEVENT
BEGIN:VEVENT
DTSTART;TZID=Europe/Berlin:20260301T110000
DTEND;TZID=Europe/Berlin:20260301T113000
DTSTAMP:20260424T124717
CREATED:20260224T021115Z
LAST-MODIFIED:20260224T021115Z
UID:37749-1772362800-1772364600@radolfzell-musikschule.de
SUMMARY:Preisträgerkonzert "Jugend musiziert"\, Radolfzeller Teilnehmende
DESCRIPTION:
URL:https://radolfzell-musikschule.de/veranstaltung/preistraegerkonzert-jugend-musiziert-radolfzeller-teilnehmende-61/
LOCATION:Städtische Musikschule Radolfzell\, Güttinger Straße 19\, Radolfzell am Bodensee\, 78315
ATTACH;FMTTYPE=image/png:https://radolfzell-musikschule.de/wp-content/uploads/sites/3/2026/02/event-a0e59ce1-be48-4b9b-806c-a64d44adf878-43.png
END:VEVENT
BEGIN:VEVENT
DTSTART;TZID=Europe/Berlin:20260301T110000
DTEND;TZID=Europe/Berlin:20260301T113000
DTSTAMP:20260424T124717
CREATED:20260223T140108Z
LAST-MODIFIED:20260223T140108Z
UID:37735-1772362800-1772364600@radolfzell-musikschule.de
SUMMARY:Preisträgerkonzert "Jugend musiziert"\, Radolfzeller Teilnehmende
DESCRIPTION:
URL:https://radolfzell-musikschule.de/veranstaltung/preistraegerkonzert-jugend-musiziert-radolfzeller-teilnehmende-60/
LOCATION:Städtische Musikschule Radolfzell\, Güttinger Straße 19\, Radolfzell am Bodensee\, 78315
ATTACH;FMTTYPE=image/png:https://radolfzell-musikschule.de/wp-content/uploads/sites/3/2026/02/event-a0e59ce1-be48-4b9b-806c-a64d44adf878-42.png
END:VEVENT
BEGIN:VEVENT
DTSTART;TZID=Europe/Berlin:20260301T110000
DTEND;TZID=Europe/Berlin:20260301T113000
DTSTAMP:20260424T124717
CREATED:20260223T015110Z
LAST-MODIFIED:20260223T015110Z
UID:37724-1772362800-1772364600@radolfzell-musikschule.de
SUMMARY:Preisträgerkonzert "Jugend musiziert"\, Radolfzeller Teilnehmende
DESCRIPTION:
URL:https://radolfzell-musikschule.de/veranstaltung/preistraegerkonzert-jugend-musiziert-radolfzeller-teilnehmende-59/
LOCATION:Städtische Musikschule Radolfzell\, Güttinger Straße 19\, Radolfzell am Bodensee\, 78315
ATTACH;FMTTYPE=image/png:https://radolfzell-musikschule.de/wp-content/uploads/sites/3/2026/02/event-a0e59ce1-be48-4b9b-806c-a64d44adf878-41.png
END:VEVENT
BEGIN:VEVENT
DTSTART;TZID=Europe/Berlin:20260301T110000
DTEND;TZID=Europe/Berlin:20260301T113000
DTSTAMP:20260424T124717
CREATED:20260222T134109Z
LAST-MODIFIED:20260222T134109Z
UID:37710-1772362800-1772364600@radolfzell-musikschule.de
SUMMARY:Preisträgerkonzert "Jugend musiziert"\, Radolfzeller Teilnehmende
DESCRIPTION:
URL:https://radolfzell-musikschule.de/veranstaltung/preistraegerkonzert-jugend-musiziert-radolfzeller-teilnehmende-58/
LOCATION:Städtische Musikschule Radolfzell\, Güttinger Straße 19\, Radolfzell am Bodensee\, 78315
ATTACH;FMTTYPE=image/png:https://radolfzell-musikschule.de/wp-content/uploads/sites/3/2026/02/event-a0e59ce1-be48-4b9b-806c-a64d44adf878-40.png
END:VEVENT
BEGIN:VEVENT
DTSTART;TZID=Europe/Berlin:20260301T110000
DTEND;TZID=Europe/Berlin:20260301T113000
DTSTAMP:20260424T124717
CREATED:20260222T013113Z
LAST-MODIFIED:20260222T013113Z
UID:37697-1772362800-1772364600@radolfzell-musikschule.de
SUMMARY:Preisträgerkonzert "Jugend musiziert"\, Radolfzeller Teilnehmende
DESCRIPTION:
URL:https://radolfzell-musikschule.de/veranstaltung/preistraegerkonzert-jugend-musiziert-radolfzeller-teilnehmende-57/
LOCATION:Städtische Musikschule Radolfzell\, Güttinger Straße 19\, Radolfzell am Bodensee\, 78315
ATTACH;FMTTYPE=image/png:https://radolfzell-musikschule.de/wp-content/uploads/sites/3/2026/02/event-a0e59ce1-be48-4b9b-806c-a64d44adf878-39.png
END:VEVENT
BEGIN:VEVENT
DTSTART;TZID=Europe/Berlin:20260301T110000
DTEND;TZID=Europe/Berlin:20260301T113000
DTSTAMP:20260424T124717
CREATED:20260221T132104Z
LAST-MODIFIED:20260221T132104Z
UID:37681-1772362800-1772364600@radolfzell-musikschule.de
SUMMARY:Preisträgerkonzert "Jugend musiziert"\, Radolfzeller Teilnehmende
DESCRIPTION:
URL:https://radolfzell-musikschule.de/veranstaltung/preistraegerkonzert-jugend-musiziert-radolfzeller-teilnehmende-56/
LOCATION:Städtische Musikschule Radolfzell\, Güttinger Straße 19\, Radolfzell am Bodensee\, 78315
ATTACH;FMTTYPE=image/png:https://radolfzell-musikschule.de/wp-content/uploads/sites/3/2026/02/event-a0e59ce1-be48-4b9b-806c-a64d44adf878-38.png
END:VEVENT
BEGIN:VEVENT
DTSTART;TZID=Europe/Berlin:20260301T110000
DTEND;TZID=Europe/Berlin:20260301T113000
DTSTAMP:20260424T124717
CREATED:20260221T011110Z
LAST-MODIFIED:20260221T011110Z
UID:37663-1772362800-1772364600@radolfzell-musikschule.de
SUMMARY:Preisträgerkonzert "Jugend musiziert"\, Radolfzeller Teilnehmende
DESCRIPTION:
URL:https://radolfzell-musikschule.de/veranstaltung/preistraegerkonzert-jugend-musiziert-radolfzeller-teilnehmende-55/
LOCATION:Städtische Musikschule Radolfzell\, Güttinger Straße 19\, Radolfzell am Bodensee\, 78315
ATTACH;FMTTYPE=image/png:https://radolfzell-musikschule.de/wp-content/uploads/sites/3/2026/02/event-a0e59ce1-be48-4b9b-806c-a64d44adf878-37.png
END:VEVENT
BEGIN:VEVENT
DTSTART;TZID=Europe/Berlin:20260301T110000
DTEND;TZID=Europe/Berlin:20260301T113000
DTSTAMP:20260424T124717
CREATED:20260220T130108Z
LAST-MODIFIED:20260220T130108Z
UID:37640-1772362800-1772364600@radolfzell-musikschule.de
SUMMARY:Preisträgerkonzert "Jugend musiziert"\, Radolfzeller Teilnehmende
DESCRIPTION:
URL:https://radolfzell-musikschule.de/veranstaltung/preistraegerkonzert-jugend-musiziert-radolfzeller-teilnehmende-54/
LOCATION:Städtische Musikschule Radolfzell\, Güttinger Straße 19\, Radolfzell am Bodensee\, 78315
ATTACH;FMTTYPE=image/png:https://radolfzell-musikschule.de/wp-content/uploads/sites/3/2026/02/event-a0e59ce1-be48-4b9b-806c-a64d44adf878-36.png
END:VEVENT
BEGIN:VEVENT
DTSTART;TZID=Europe/Berlin:20260301T110000
DTEND;TZID=Europe/Berlin:20260301T113000
DTSTAMP:20260424T124717
CREATED:20260220T005110Z
LAST-MODIFIED:20260220T005110Z
UID:37624-1772362800-1772364600@radolfzell-musikschule.de
SUMMARY:Preisträgerkonzert "Jugend musiziert"\, Radolfzeller Teilnehmende
DESCRIPTION:
URL:https://radolfzell-musikschule.de/veranstaltung/preistraegerkonzert-jugend-musiziert-radolfzeller-teilnehmende-53/
LOCATION:Städtische Musikschule Radolfzell\, Güttinger Straße 19\, Radolfzell am Bodensee\, 78315
ATTACH;FMTTYPE=image/png:https://radolfzell-musikschule.de/wp-content/uploads/sites/3/2026/02/event-a0e59ce1-be48-4b9b-806c-a64d44adf878-35.png
END:VEVENT
BEGIN:VEVENT
DTSTART;TZID=Europe/Berlin:20260301T110000
DTEND;TZID=Europe/Berlin:20260301T113000
DTSTAMP:20260424T124717
CREATED:20260219T124105Z
LAST-MODIFIED:20260219T124105Z
UID:37611-1772362800-1772364600@radolfzell-musikschule.de
SUMMARY:Preisträgerkonzert "Jugend musiziert"\, Radolfzeller Teilnehmende
DESCRIPTION:
URL:https://radolfzell-musikschule.de/veranstaltung/preistraegerkonzert-jugend-musiziert-radolfzeller-teilnehmende-52/
LOCATION:Städtische Musikschule Radolfzell\, Güttinger Straße 19\, Radolfzell am Bodensee\, 78315
ATTACH;FMTTYPE=image/png:https://radolfzell-musikschule.de/wp-content/uploads/sites/3/2026/02/event-a0e59ce1-be48-4b9b-806c-a64d44adf878-34.png
END:VEVENT
BEGIN:VEVENT
DTSTART;TZID=Europe/Berlin:20260301T110000
DTEND;TZID=Europe/Berlin:20260301T113000
DTSTAMP:20260424T124717
CREATED:20260219T003111Z
LAST-MODIFIED:20260219T003111Z
UID:37598-1772362800-1772364600@radolfzell-musikschule.de
SUMMARY:Preisträgerkonzert "Jugend musiziert"\, Radolfzeller Teilnehmende
DESCRIPTION:
URL:https://radolfzell-musikschule.de/veranstaltung/preistraegerkonzert-jugend-musiziert-radolfzeller-teilnehmende-51/
LOCATION:Städtische Musikschule Radolfzell\, Güttinger Straße 19\, Radolfzell am Bodensee\, 78315
ATTACH;FMTTYPE=image/png:https://radolfzell-musikschule.de/wp-content/uploads/sites/3/2026/02/event-a0e59ce1-be48-4b9b-806c-a64d44adf878-33.png
END:VEVENT
BEGIN:VEVENT
DTSTART;TZID=Europe/Berlin:20260301T110000
DTEND;TZID=Europe/Berlin:20260301T113000
DTSTAMP:20260424T124717
CREATED:20260218T001115Z
LAST-MODIFIED:20260218T001115Z
UID:37581-1772362800-1772364600@radolfzell-musikschule.de
SUMMARY:Preisträgerkonzert "Jugend musiziert"\, Radolfzeller Teilnehmende
DESCRIPTION:
URL:https://radolfzell-musikschule.de/veranstaltung/preistraegerkonzert-jugend-musiziert-radolfzeller-teilnehmende-50/
LOCATION:Städtische Musikschule Radolfzell\, Güttinger Straße 19\, Radolfzell am Bodensee\, 78315
ATTACH;FMTTYPE=image/png:https://radolfzell-musikschule.de/wp-content/uploads/sites/3/2026/02/event-a0e59ce1-be48-4b9b-806c-a64d44adf878-32.png
END:VEVENT
BEGIN:VEVENT
DTSTART;TZID=Europe/Berlin:20260301T110000
DTEND;TZID=Europe/Berlin:20260301T113000
DTSTAMP:20260424T124717
CREATED:20260217T120108Z
LAST-MODIFIED:20260217T120108Z
UID:37570-1772362800-1772364600@radolfzell-musikschule.de
SUMMARY:Preisträgerkonzert "Jugend musiziert"\, Radolfzeller Teilnehmende
DESCRIPTION:
URL:https://radolfzell-musikschule.de/veranstaltung/preistraegerkonzert-jugend-musiziert-radolfzeller-teilnehmende-49/
LOCATION:Städtische Musikschule Radolfzell\, Güttinger Straße 19\, Radolfzell am Bodensee\, 78315
ATTACH;FMTTYPE=image/png:https://radolfzell-musikschule.de/wp-content/uploads/sites/3/2026/02/event-a0e59ce1-be48-4b9b-806c-a64d44adf878-31.png
END:VEVENT
BEGIN:VEVENT
DTSTART;TZID=Europe/Berlin:20260301T110000
DTEND;TZID=Europe/Berlin:20260301T113000
DTSTAMP:20260424T124717
CREATED:20260216T235105Z
LAST-MODIFIED:20260216T235105Z
UID:37560-1772362800-1772364600@radolfzell-musikschule.de
SUMMARY:Preisträgerkonzert "Jugend musiziert"\, Radolfzeller Teilnehmende
DESCRIPTION:
URL:https://radolfzell-musikschule.de/veranstaltung/preistraegerkonzert-jugend-musiziert-radolfzeller-teilnehmende-48/
LOCATION:Städtische Musikschule Radolfzell\, Güttinger Straße 19\, Radolfzell am Bodensee\, 78315
ATTACH;FMTTYPE=image/png:https://radolfzell-musikschule.de/wp-content/uploads/sites/3/2026/02/event-a0e59ce1-be48-4b9b-806c-a64d44adf878-30.png
END:VEVENT
BEGIN:VEVENT
DTSTART;TZID=Europe/Berlin:20260301T110000
DTEND;TZID=Europe/Berlin:20260301T113000
DTSTAMP:20260424T124717
CREATED:20260216T114108Z
LAST-MODIFIED:20260216T114108Z
UID:37547-1772362800-1772364600@radolfzell-musikschule.de
SUMMARY:Preisträgerkonzert "Jugend musiziert"\, Radolfzeller Teilnehmende
DESCRIPTION:
URL:https://radolfzell-musikschule.de/veranstaltung/preistraegerkonzert-jugend-musiziert-radolfzeller-teilnehmende-47/
LOCATION:Städtische Musikschule Radolfzell\, Güttinger Straße 19\, Radolfzell am Bodensee\, 78315
ATTACH;FMTTYPE=image/png:https://radolfzell-musikschule.de/wp-content/uploads/sites/3/2026/02/event-a0e59ce1-be48-4b9b-806c-a64d44adf878-29.png
END:VEVENT
BEGIN:VEVENT
DTSTART;TZID=Europe/Berlin:20260301T110000
DTEND;TZID=Europe/Berlin:20260301T113000
DTSTAMP:20260424T124717
CREATED:20260215T233108Z
LAST-MODIFIED:20260215T233108Z
UID:37532-1772362800-1772364600@radolfzell-musikschule.de
SUMMARY:Preisträgerkonzert "Jugend musiziert"\, Radolfzeller Teilnehmende
DESCRIPTION:
URL:https://radolfzell-musikschule.de/veranstaltung/preistraegerkonzert-jugend-musiziert-radolfzeller-teilnehmende-46/
LOCATION:Städtische Musikschule Radolfzell\, Güttinger Straße 19\, Radolfzell am Bodensee\, 78315
ATTACH;FMTTYPE=image/png:https://radolfzell-musikschule.de/wp-content/uploads/sites/3/2026/02/event-a0e59ce1-be48-4b9b-806c-a64d44adf878-28.png
END:VEVENT
BEGIN:VEVENT
DTSTART;TZID=Europe/Berlin:20260301T110000
DTEND;TZID=Europe/Berlin:20260301T113000
DTSTAMP:20260424T124717
CREATED:20260215T112110Z
LAST-MODIFIED:20260215T112110Z
UID:37519-1772362800-1772364600@radolfzell-musikschule.de
SUMMARY:Preisträgerkonzert "Jugend musiziert"\, Radolfzeller Teilnehmende
DESCRIPTION:
URL:https://radolfzell-musikschule.de/veranstaltung/preistraegerkonzert-jugend-musiziert-radolfzeller-teilnehmende-45/
LOCATION:Städtische Musikschule Radolfzell\, Güttinger Straße 19\, Radolfzell am Bodensee\, 78315
ATTACH;FMTTYPE=image/png:https://radolfzell-musikschule.de/wp-content/uploads/sites/3/2026/02/event-a0e59ce1-be48-4b9b-806c-a64d44adf878-27.png
END:VEVENT
BEGIN:VEVENT
DTSTART;TZID=Europe/Berlin:20260301T110000
DTEND;TZID=Europe/Berlin:20260301T113000
DTSTAMP:20260424T124717
CREATED:20260214T231109Z
LAST-MODIFIED:20260214T231109Z
UID:37507-1772362800-1772364600@radolfzell-musikschule.de
SUMMARY:Preisträgerkonzert "Jugend musiziert"\, Radolfzeller Teilnehmende
DESCRIPTION:
URL:https://radolfzell-musikschule.de/veranstaltung/preistraegerkonzert-jugend-musiziert-radolfzeller-teilnehmende-44/
LOCATION:Städtische Musikschule Radolfzell\, Güttinger Straße 19\, Radolfzell am Bodensee\, 78315
ATTACH;FMTTYPE=image/png:https://radolfzell-musikschule.de/wp-content/uploads/sites/3/2026/02/event-a0e59ce1-be48-4b9b-806c-a64d44adf878-26.png
END:VEVENT
BEGIN:VEVENT
DTSTART;TZID=Europe/Berlin:20260301T110000
DTEND;TZID=Europe/Berlin:20260301T113000
DTSTAMP:20260424T124717
CREATED:20260214T110113Z
LAST-MODIFIED:20260214T110113Z
UID:37494-1772362800-1772364600@radolfzell-musikschule.de
SUMMARY:Preisträgerkonzert "Jugend musiziert"\, Radolfzeller Teilnehmende
DESCRIPTION:
URL:https://radolfzell-musikschule.de/veranstaltung/preistraegerkonzert-jugend-musiziert-radolfzeller-teilnehmende-43/
LOCATION:Städtische Musikschule Radolfzell\, Güttinger Straße 19\, Radolfzell am Bodensee\, 78315
ATTACH;FMTTYPE=image/png:https://radolfzell-musikschule.de/wp-content/uploads/sites/3/2026/02/event-a0e59ce1-be48-4b9b-806c-a64d44adf878-25.png
END:VEVENT
BEGIN:VEVENT
DTSTART;TZID=Europe/Berlin:20260301T110000
DTEND;TZID=Europe/Berlin:20260301T113000
DTSTAMP:20260424T124717
CREATED:20260213T225106Z
LAST-MODIFIED:20260213T225106Z
UID:37468-1772362800-1772364600@radolfzell-musikschule.de
SUMMARY:Preisträgerkonzert "Jugend musiziert"\, Radolfzeller Teilnehmende
DESCRIPTION:
URL:https://radolfzell-musikschule.de/veranstaltung/preistraegerkonzert-jugend-musiziert-radolfzeller-teilnehmende-42/
LOCATION:Städtische Musikschule Radolfzell\, Güttinger Straße 19\, Radolfzell am Bodensee\, 78315
ATTACH;FMTTYPE=image/png:https://radolfzell-musikschule.de/wp-content/uploads/sites/3/2026/02/event-a0e59ce1-be48-4b9b-806c-a64d44adf878-24.png
END:VEVENT
END:VCALENDAR